BEGIN:VCALENDAR
VERSION:2.0
PRODID:-//eventon.com NONSGML v1.0//EN
CALSCALE:GREGORIAN
METHOD:PUBLISH
BEGIN:VEVENT
UID:69e5e3da74f18
DTSTAMP:20260420T082914Z
DTSTART:20250831T143000Z
DTEND:20250831T163000Z
LOCATION:Evenemententerrein IJsselmeerstraat Huizen IJselmeerstraat 5C\,  1271 AA Huizen
SUMMARY:Hans Klok and Friends - Huizen
DESCRIPTION:Bestel hier uw tickets / order tickets / Bestellen Sie Ihre Tic
 kets hier: Eventim\nhttps://hansklok.com/events/hans-klok-and-friends-huize
 n-10/
URL:https://hansklok.com/events/hans-klok-and-friends-huizen-10/
END:VEVENT
END:VCALENDAR