BEGIN:VCALENDAR
VERSION:2.0
PRODID:-//eventon.com NONSGML v1.0//EN
CALSCALE:GREGORIAN
METHOD:PUBLISH
BEGIN:VEVENT
UID:69e730ad679b8
DTSTAMP:20260421T080917Z
DTSTART:20250801T173000Z
DTEND:20250801T193000Z
LOCATION:Strand van Scheveningen Den Haag Noordelijk Havenhoofd\,  hoek\,  Strandweg\,  2586 JK Den Haag
SUMMARY:Hans Klok and Friends - Den Haag
DESCRIPTION:Bestel hier uw tickets / order tickets / Bestellen Sie Ihre Tic
 kets hier: Eventim\nhttps://hansklok.com/events/hans-klok-and-friends-den-h
 aag-22/
URL:https://hansklok.com/events/hans-klok-and-friends-den-haag-22/
END:VEVENT
END:VCALENDAR