BEGIN:VCALENDAR
VERSION:2.0
PRODID:-//eventon.com NONSGML v1.0//EN
CALSCALE:GREGORIAN
METHOD:PUBLISH
BEGIN:VEVENT
UID:69e747c6e6773
DTSTAMP:20260421T094750Z
DTSTART:20250525T133000Z
DTEND:20250525T153000Z
LOCATION:Goffertweide Nijmegen Muntweg 442\,  6532 TP Nijmegen
SUMMARY:Hans Klok and Friends - Nijmegen
DESCRIPTION:Bestel hier uw tickets / order tickets / Bestellen Sie Ihre Tic
 kets hier: Eventim\nhttps://hansklok.com/events/hans-klok-and-friends-nijme
 gen-5/
URL:https://hansklok.com/events/hans-klok-and-friends-nijmegen-5/
END:VEVENT
END:VCALENDAR